BEGIN:VCALENDAR
VERSION:2.0
PRODID:-//Soul 2 Soul Sisters - ECPv6.15.20//NONSGML v1.0//EN
CALSCALE:GREGORIAN
METHOD:PUBLISH
X-ORIGINAL-URL:https://soul2soulsisters.org
X-WR-CALDESC:Events for Soul 2 Soul Sisters
REFRESH-INTERVAL;VALUE=DURATION:PT1H
X-Robots-Tag:noindex
X-PUBLISHED-TTL:PT1H
BEGIN:VTIMEZONE
TZID:America/Denver
BEGIN:DAYLIGHT
TZOFFSETFROM:-0700
TZOFFSETTO:-0600
TZNAME:MDT
DTSTART:20250309T090000
END:DAYLIGHT
BEGIN:STANDARD
TZOFFSETFROM:-0600
TZOFFSETTO:-0700
TZNAME:MST
DTSTART:20251102T080000
END:STANDARD
BEGIN:DAYLIGHT
TZOFFSETFROM:-0700
TZOFFSETTO:-0600
TZNAME:MDT
DTSTART:20260308T090000
END:DAYLIGHT
BEGIN:STANDARD
TZOFFSETFROM:-0600
TZOFFSETTO:-0700
TZNAME:MST
DTSTART:20261101T080000
END:STANDARD
BEGIN:DAYLIGHT
TZOFFSETFROM:-0700
TZOFFSETTO:-0600
TZNAME:MDT
DTSTART:20270314T090000
END:DAYLIGHT
BEGIN:STANDARD
TZOFFSETFROM:-0600
TZOFFSETTO:-0700
TZNAME:MST
DTSTART:20271107T080000
END:STANDARD
END:VTIMEZONE
BEGIN:VEVENT
DTSTART;TZID=America/Denver:20260321T100000
DTEND;TZID=America/Denver:20260321T130000
DTSTAMP:20260425T122258
CREATED:20260318T163235Z
LAST-MODIFIED:20260318T163235Z
UID:5928-1774087200-1774098000@soul2soulsisters.org
SUMMARY:Self-Love Journey: The Gift
DESCRIPTION:In February\, we learned how our ancestors have cared for themselves for generations. Now\, we get to learn and experience how we do this today. “The Gift” Ways to Love on and Care for Yourself. Experience several healing modalities focused on the love of self: giving the body nutritious foods\, herbs\, and juices; Journal Writing (OurStories); yoga & hand massages; relaxing acudetox w/ Aromatherapy and Sound Therapy.
URL:https://soul2soulsisters.org/events/self-love-journey-the-gift/
LOCATION:CCJRC\, 821 22nd St\, Denver\, CO\, 80205\, United States
END:VEVENT
END:VCALENDAR