BEGIN:VCALENDAR
VERSION:2.0
PRODID:-//Soul 2 Soul Sisters - ECPv6.15.20//NONSGML v1.0//EN
CALSCALE:GREGORIAN
METHOD:PUBLISH
X-ORIGINAL-URL:https://soul2soulsisters.org
X-WR-CALDESC:Events for Soul 2 Soul Sisters
REFRESH-INTERVAL;VALUE=DURATION:PT1H
X-Robots-Tag:noindex
X-PUBLISHED-TTL:PT1H
BEGIN:VTIMEZONE
TZID:America/Denver
BEGIN:DAYLIGHT
TZOFFSETFROM:-0700
TZOFFSETTO:-0600
TZNAME:MDT
DTSTART:20250309T090000
END:DAYLIGHT
BEGIN:STANDARD
TZOFFSETFROM:-0600
TZOFFSETTO:-0700
TZNAME:MST
DTSTART:20251102T080000
END:STANDARD
BEGIN:DAYLIGHT
TZOFFSETFROM:-0700
TZOFFSETTO:-0600
TZNAME:MDT
DTSTART:20260308T090000
END:DAYLIGHT
BEGIN:STANDARD
TZOFFSETFROM:-0600
TZOFFSETTO:-0700
TZNAME:MST
DTSTART:20261101T080000
END:STANDARD
BEGIN:DAYLIGHT
TZOFFSETFROM:-0700
TZOFFSETTO:-0600
TZNAME:MDT
DTSTART:20270314T090000
END:DAYLIGHT
BEGIN:STANDARD
TZOFFSETFROM:-0600
TZOFFSETTO:-0700
TZNAME:MST
DTSTART:20271107T080000
END:STANDARD
END:VTIMEZONE
BEGIN:VEVENT
DTSTART;TZID=America/Denver:20260418T100000
DTEND;TZID=America/Denver:20260418T130000
DTSTAMP:20260425T122004
CREATED:20260407T153317Z
LAST-MODIFIED:20260407T153317Z
UID:5965-1776506400-1776517200@soul2soulsisters.org
SUMMARY:The Closing of The Bones Self Love Journey
DESCRIPTION:The Closing of the Bones is a traditional ceremony that involves massage and body wrapping to help birthing bodies recover after their labor journey\, however that may have looked. The ceremony can also be performed for birthing people of angel babies who have experienced child loss to process grief\, other life transitions\, or trauma concerning the womb space.  \nThe Closing of The Bones Self Love Journey Details \n📆: Saturday April 18th \n⏰: 10AM – 1PM \n📍: Colorado Criminal Justice Reform Coalition\, 821 22nd Street \nPlease contact info@soul2soulsisters.org if you would like to receive a discounted or no-cost ticket.
URL:https://soul2soulsisters.org/events/the-closing-of-the-bones-self-love-journey/
LOCATION:CO
END:VEVENT
END:VCALENDAR