BEGIN:VCALENDAR
VERSION:2.0
PRODID:-//Soul 2 Soul Sisters - ECPv6.15.20//NONSGML v1.0//EN
CALSCALE:GREGORIAN
METHOD:PUBLISH
X-WR-CALNAME:Soul 2 Soul Sisters
X-ORIGINAL-URL:https://soul2soulsisters.org
X-WR-CALDESC:Events for Soul 2 Soul Sisters
REFRESH-INTERVAL;VALUE=DURATION:PT1H
X-Robots-Tag:noindex
X-PUBLISHED-TTL:PT1H
BEGIN:VTIMEZONE
TZID:America/Denver
BEGIN:DAYLIGHT
TZOFFSETFROM:-0700
TZOFFSETTO:-0600
TZNAME:MDT
DTSTART:20250309T090000
END:DAYLIGHT
BEGIN:STANDARD
TZOFFSETFROM:-0600
TZOFFSETTO:-0700
TZNAME:MST
DTSTART:20251102T080000
END:STANDARD
BEGIN:DAYLIGHT
TZOFFSETFROM:-0700
TZOFFSETTO:-0600
TZNAME:MDT
DTSTART:20260308T090000
END:DAYLIGHT
BEGIN:STANDARD
TZOFFSETFROM:-0600
TZOFFSETTO:-0700
TZNAME:MST
DTSTART:20261101T080000
END:STANDARD
BEGIN:DAYLIGHT
TZOFFSETFROM:-0700
TZOFFSETTO:-0600
TZNAME:MDT
DTSTART:20270314T090000
END:DAYLIGHT
BEGIN:STANDARD
TZOFFSETFROM:-0600
TZOFFSETTO:-0700
TZNAME:MST
DTSTART:20271107T080000
END:STANDARD
END:VTIMEZONE
BEGIN:VEVENT
DTSTART;TZID=America/Denver:20260412T093000
DTEND;TZID=America/Denver:20260412T104500
DTSTAMP:20260425T141324
CREATED:20260407T154452Z
LAST-MODIFIED:20260407T154452Z
UID:5968-1775986200-1775990700@soul2soulsisters.org
SUMMARY:Birth Art
DESCRIPTION:In this 1.5 hour workshop\, pregnant participants and their birth partners will explore their innermost belief and thoughts around birth through intuitive and creative outlets!  \nJoin your host\, Full Spectrum Birth Doula Celeste\,\nApril 12th from 9:30am-10:45a\nAlchemy Ritual Food 2700 Arapahoe st.\nCost: $15 To be paid here: buymeacoffee.com/MoonWomb  \nRSVP Here>>
URL:https://soul2soulsisters.org/events/birth-art/
LOCATION:CO
END:VEVENT
END:VCALENDAR