BEGIN:VCALENDAR
VERSION:2.0
PRODID:-//Soul 2 Soul Sisters - ECPv6.15.20//NONSGML v1.0//EN
CALSCALE:GREGORIAN
METHOD:PUBLISH
X-ORIGINAL-URL:https://soul2soulsisters.org
X-WR-CALDESC:Events for Soul 2 Soul Sisters
REFRESH-INTERVAL;VALUE=DURATION:PT1H
X-Robots-Tag:noindex
X-PUBLISHED-TTL:PT1H
BEGIN:VTIMEZONE
TZID:America/Denver
BEGIN:DAYLIGHT
TZOFFSETFROM:-0700
TZOFFSETTO:-0600
TZNAME:MDT
DTSTART:20250309T090000
END:DAYLIGHT
BEGIN:STANDARD
TZOFFSETFROM:-0600
TZOFFSETTO:-0700
TZNAME:MST
DTSTART:20251102T080000
END:STANDARD
BEGIN:DAYLIGHT
TZOFFSETFROM:-0700
TZOFFSETTO:-0600
TZNAME:MDT
DTSTART:20260308T090000
END:DAYLIGHT
BEGIN:STANDARD
TZOFFSETFROM:-0600
TZOFFSETTO:-0700
TZNAME:MST
DTSTART:20261101T080000
END:STANDARD
BEGIN:DAYLIGHT
TZOFFSETFROM:-0700
TZOFFSETTO:-0600
TZNAME:MDT
DTSTART:20270314T090000
END:DAYLIGHT
BEGIN:STANDARD
TZOFFSETFROM:-0600
TZOFFSETTO:-0700
TZNAME:MST
DTSTART:20271107T080000
END:STANDARD
END:VTIMEZONE
BEGIN:VEVENT
DTSTART;TZID=America/Denver:20260410T073000
DTEND;TZID=America/Denver:20260410T100000
DTSTAMP:20260425T122053
CREATED:20260407T153037Z
LAST-MODIFIED:20260407T160511Z
UID:5959-1775806200-1775815200@soul2soulsisters.org
SUMMARY:Black Maternal Health Breakfast
DESCRIPTION:Join Soul 2 Soul Sisters and Elephant Circle to kick off Black Maternal Health Week on April 10 from 7:30 am-9:00 am at the Colorado State Capitol. Rooted in Justice and Joy\, we will celebrate the 10-year anniversary of this movement and ground us all in the reality that there’s more work to be done.
URL:https://soul2soulsisters.org/events/black-maternal-health-breakfast/
LOCATION:1st Floor West Foyer of Capitol
END:VEVENT
END:VCALENDAR